BEGIN:VCALENDAR
VERSION:2.0
CALSCALE:GREGORIAN
PRODID:adamgibbons/ics
METHOD:PUBLISH
X-PUBLISHED-TTL:PT1H
BEGIN:VEVENT
UID:lB-W0xWGqTi8SZJ66EeCZ
SUMMARY:Kreativ Kiste
DTSTAMP:20260409T055332Z
DTSTART:20260414T163000
DTEND:20260414T163000
DESCRIPTION:Hier könnt ihr basteln und euer Kreativität freien Lauf lassen.
LOCATION:Jugend und Familienhaus
CATEGORIES:Veranstaltung
ORGANIZER;CN="DRK Ortsverein Neuhaus / Elbe e.V.":
END:VEVENT
END:VCALENDAR
