BEGIN:VCALENDAR
VERSION:2.0
CALSCALE:GREGORIAN
PRODID:adamgibbons/ics
METHOD:PUBLISH
X-PUBLISHED-TTL:PT1H
BEGIN:VEVENT
UID:WkJe82tto3wowf2ku25ZO
SUMMARY:Reparaturkaffee
DTSTAMP:20260409T055343Z
DTSTART:20260430T160000
DTEND:20260430T160000
DESCRIPTION:Gib deinem Gerät eine zweite Chance! Komm vorbei - wir retten\,
	 was zu retten ist.
LOCATION:DRK Bereitschaft\, Am Alten Bahnhof 15\, 19273 Neuhaus
CATEGORIES:Veranstaltung
ORGANIZER;CN="DRK Ortsverein Neuhaus / Elbe e.V.":
END:VEVENT
END:VCALENDAR
